BEGIN:VCALENDAR
VERSION:2.0
PRODID:-//Stahls Motor and Music Experience - ECPv6.15.20//NONSGML v1.0//EN
CALSCALE:GREGORIAN
METHOD:PUBLISH
X-ORIGINAL-URL:https://www.stahlsauto.com
X-WR-CALDESC:Events for Stahls Motor and Music Experience
REFRESH-INTERVAL;VALUE=DURATION:PT1H
X-Robots-Tag:noindex
X-PUBLISHED-TTL:PT1H
BEGIN:VTIMEZONE
TZID:America/New_York
BEGIN:DAYLIGHT
TZOFFSETFROM:-0500
TZOFFSETTO:-0400
TZNAME:EDT
DTSTART:20220313T070000
END:DAYLIGHT
BEGIN:STANDARD
TZOFFSETFROM:-0400
TZOFFSETTO:-0500
TZNAME:EST
DTSTART:20221106T060000
END:STANDARD
BEGIN:DAYLIGHT
TZOFFSETFROM:-0500
TZOFFSETTO:-0400
TZNAME:EDT
DTSTART:20230312T070000
END:DAYLIGHT
BEGIN:STANDARD
TZOFFSETFROM:-0400
TZOFFSETTO:-0500
TZNAME:EST
DTSTART:20231105T060000
END:STANDARD
BEGIN:DAYLIGHT
TZOFFSETFROM:-0500
TZOFFSETTO:-0400
TZNAME:EDT
DTSTART:20240310T070000
END:DAYLIGHT
BEGIN:STANDARD
TZOFFSETFROM:-0400
TZOFFSETTO:-0500
TZNAME:EST
DTSTART:20241103T060000
END:STANDARD
END:VTIMEZONE
BEGIN:VEVENT
DTSTART;TZID=America/New_York:20230204T110000
DTEND;TZID=America/New_York:20230204T160000
DTSTAMP:20260419T085937
CREATED:20221215T153721Z
LAST-MODIFIED:20221215T153721Z
UID:10000012-1675508400-1675526400@www.stahlsauto.com
SUMMARY:Open to the Public
DESCRIPTION:
URL:https://www.stahlsauto.com/event/open-to-the-public-8/2023-02-04/
LOCATION:MI
END:VEVENT
BEGIN:VEVENT
DTSTART;TZID=America/New_York:20230216T170000
DTEND;TZID=America/New_York:20230216T200000
DTSTAMP:20260419T085937
CREATED:20221219T174713Z
LAST-MODIFIED:20221219T174713Z
UID:10000021-1676566800-1676577600@www.stahlsauto.com
SUMMARY:Night at the Museum
DESCRIPTION:This evening will focus more on the neon signs as we turn down the overhead lights and keep the neons burning!  All are welcome to stroll through the museum during this glowing event.  There is no fee to enter the museum\, donations are happily accepted at the front door.  Come see us in a whole new light!
URL:https://www.stahlsauto.com/event/night-at-the-museum/2023-02-16/
LOCATION:MI
ATTACH;FMTTYPE=image/jpeg:https://wp-stahlsautomotive.s3.amazonaws.com/wp-content/uploads/20211209_185648-1-scaled-1.jpg
END:VEVENT
END:VCALENDAR